{"text_format":"1","workbook":"xlsx","n_sheets":5,"sheets":["Sluttrapport","MmtData","Kvalitetsbeskrivelse","Hysopp kommentar","HJELP"],"not_rendered":{"charts":2,"images":6,"macros":1,"external_links":0,"defined_names":65,"comments":1,"pivot_tables":0},"unopened":[],"bounds":{"document_bytes":16777216,"sheet_cells":100000,"rows_first":2000,"rows_last":500,"rows_between":2000,"halvings":0,"cell_chars":16384,"cell_head_chars":4096},"cells_cut":0,"cells_raw":0,"read":"whole","date_system":"1900"}

{"sheet":"Sluttrapport","index":0,"n_rows":73,"n_cols":134,"rows_kept":73,"cut":false,"hidden":false,"merged":[[22,20,22,21],[22,11,22,13],[22,16,22,17],[22,22,22,23],[58,2,58,8],[63,2,63,8],[61,2,61,8],[62,2,62,8],[55,2,55,6],[59,2,59,8],[23,9,23,10],[24,9,24,10],[21,2,22,3],[22,9,22,10],[22,7,22,8],[21,4,22,4],[21,5,21,10],[23,5,23,6],[24,5,24,6],[25,5,25,6],[26,5,26,6],[23,22,23,23],[23,16,23,17],[24,16,24,17],[0,59,0,61],[1,59,1,61],[2,59,2,61],[3,59,3,61],[23,52,23,53],[25,52,25,53],[26,52,26,53],[1,50,3,54],[13,51,13,53],[14,51,14,53],[14,46,14,50],[15,46,15,50],[9,46,9,48],[12,51,12,53],[15,51,15,53],[8,50,8,52],[9,50,9,52],[8,46,8,48],[22,52,22,53],[22,50,22,51],[17,5,17,53],[15,40,15,42],[10,41,10,42],[12,37,12,39],[72,2,72,8],[70,9,70,14],[70,15,70,21],[70,22,70,27],[70,28,70,31],[72,9,72,11],[56,2,57,8],[56,9,56,27],[56,28,56,31],[57,9,57,14],[57,15,57,21],[57,22,57,27],[61,28,61,31],[63,22,63,27],[61,22,61,27],[60,2,60,8],[59,9,59,27],[60,28,60,31],[62,28,62,31],[59,28,59,31],[57,28,57,31],[63,15,63,21],[63,28,63,31],[58,28,58,31],[15,2,15,4],[8,5,8,7],[12,11,12,13],[13,11,13,13],[14,11,14,13],[15,11,15,13],[12,14,12,15],[12,5,12,7],[15,5,15,7],[12,2,12,4],[13,2,13,4],[13,5,13,7],[14,5,14,7],[15,8,15,9],[15,14,15,15],[10,11,10,13],[10,14,10,16],[10,5,10,7],[13,8,13,9],[8,43,8,44],[3,12,4,14],[3,15,4,19],[9,40,9,42],[14,14,14,15],[12,31,12,33],[13,31,13,33],[8,14,8,16],[9,14,9,16],[8,11,8,13],[9,11,9,13],[9,18,9,21],[14,18,14,21],[10,22,10,24],[11,31,11,33],[11,37,11,39],[11,40,11,42],[10,43,10,44],[13,14,13,15],[14,22,14,24],[13,22,13,24],[10,37,10,40],[5,5,6,12],[8,40,8,42],[21,44,21,45],[21,40,21,41],[12,46,12,50],[15,37,15,39],[22,48,22,49],[22,46,22,47],[22,38,22,39],[23,46,23,47],[14,43,14,44],[22,40,22,41],[22,42,22,43],[22,36,22,37],[14,40,14,42],[21,38,21,39],[14,37,14,39],[13,40,13,42],[13,43,13,44],[21,42,21,43],[21,36,21,37],[13,46,13,50],[15,43,15,44],[12,40,12,42],[23,48,23,49],[56,35,57,52],[26,32,26,33],[24,24,24,25],[24,52,24,53],[24,30,24,31],[25,30,25,31],[24,46,24,47],[25,46,25,47],[25,34,25,35],[25,38,25,39],[26,38,26,39],[24,36,24,37],[24,38,24,39],[25,24,25,25],[26,40,26,41],[25,50,25,51],[26,50,26,51],[25,26,25,27],[26,26,26,27],[25,40,25,41],[56,32,56,34],[57,32,57,34],[24,32,24,33],[25,32,25,33],[70,35,70,52],[68,2,68,8],[68,9,68,27],[68,28,68,31],[68,35,68,52],[70,32,70,34],[69,28,69,31],[62,32,62,34],[63,35,63,52],[64,35,64,52],[63,9,63,14],[64,2,64,8],[64,9,64,27],[64,28,64,31],[65,2,65,8],[65,9,65,14],[65,15,65,21],[65,22,65,27],[65,28,65,31],[64,32,64,34],[65,32,65,34],[63,32,63,34],[62,15,62,21],[62,35,62,52],[1,2,2,12],[3,5,4,9],[8,2,8,4],[9,2,9,4],[10,2,10,4],[23,2,23,3],[24,2,24,3],[23,7,23,8],[24,7,24,8],[8,8,8,9],[17,2,17,4],[5,2,6,4],[14,2,14,4],[9,5,9,7],[9,8,9,9],[3,2,4,4],[19,2,19,4],[21,11,21,27],[19,5,19,53],[21,46,21,53],[11,43,11,44],[22,34,22,35],[24,11,24,13],[12,43,12,44],[25,16,25,17],[26,16,26,17],[24,18,24,19],[26,30,26,31],[23,14,23,15],[26,24,26,25],[23,24,23,25],[24,14,24,15],[24,26,24,27],[23,30,23,31],[25,2,25,3],[26,2,26,3],[22,14,22,15],[18,2,18,4],[26,7,26,8],[23,11,23,13],[25,14,25,15],[26,14,26,15],[25,7,25,8],[22,5,22,6],[25,11,25,13],[26,11,26,13],[9,37,9,39],[13,37,13,39],[8,18,8,21],[12,18,12,21],[8,31,8,33],[9,31,9,33],[8,27,8,30],[9,27,9,30],[8,22,8,24],[9,22,9,24],[8,37,8,39],[12,22,12,24],[13,27,13,30],[10,27,10,30],[12,27,12,30],[11,27,11,30],[9,43,9,44],[10,31,10,33],[70,2,70,8],[67,2,67,8],[67,9,67,27],[67,28,67,31],[69,2,69,8],[69,9,69,14],[69,15,69,21],[69,22,69,27],[66,9,66,27],[66,28,66,31],[66,2,66,8],[68,32,68,34],[69,32,69,34],[66,35,66,52],[67,35,67,52],[69,35,69,52],[66,32,66,34],[67,32,67,34],[60,32,60,34],[25,9,25,10],[26,9,26,10],[61,35,61,52],[65,35,65,52],[58,35,58,52],[59,35,59,52],[60,35,60,52],[59,32,59,34],[58,32,58,34],[61,9,61,14],[62,22,62,27],[61,32,61,34],[58,9,58,27],[61,15,61,21],[60,9,60,27],[62,9,62,14],[23,32,23,33],[23,34,23,35],[24,22,24,23],[25,22,25,23],[26,22,26,23],[25,36,25,37],[26,36,26,37],[24,34,24,35],[26,34,26,35],[24,48,24,49],[25,48,25,49],[26,48,26,49],[23,40,23,41],[26,46,26,47],[23,42,23,43],[24,42,24,43],[25,42,25,43],[26,42,26,43],[24,40,24,41],[14,27,14,28],[14,29,14,34],[15,27,15,31],[15,32,15,34],[23,26,23,27],[18,5,18,53],[25,18,25,19],[26,18,26,19],[22,30,22,31],[23,50,23,51],[21,32,21,35],[22,32,22,33],[21,28,21,31],[22,26,22,27],[22,18,22,19],[22,24,22,25],[23,18,23,19],[24,50,24,51],[23,20,23,21],[24,20,24,21],[25,20,25,21],[26,20,26,21],[23,36,23,37],[23,38,23,39],[27,11,27,13],[28,11,28,13],[27,14,27,15],[28,14,28,15],[27,7,27,8],[28,7,28,8],[27,9,27,10],[28,9,28,10],[27,2,27,3],[28,2,28,3],[27,5,27,6],[28,5,28,6],[27,24,27,25],[28,24,28,25],[27,26,27,27],[28,26,28,27],[27,20,27,21],[28,20,28,21],[27,22,27,23],[28,22,28,23],[27,16,27,17],[28,16,28,17],[27,18,27,19],[28,18,28,19],[27,38,27,39],[28,38,28,39],[27,40,27,41],[28,40,28,41],[27,34,27,35],[28,34,28,35],[27,36,27,37],[28,36,28,37],[27,30,27,31],[28,30,28,31],[27,32,27,33],[28,32,28,33],[27,52,27,53],[28,52,28,53],[27,48,27,49],[28,48,28,49],[27,50,27,51],[28,50,28,51],[27,42,27,43],[28,42,28,43],[27,46,27,47],[28,46,28,47]]}
[null,null,null,null,null,null,null,null,null,null,null,null,null,null,null,null,null,null,null,null,null,null,null,null,null,null,null,null,null,null,null,null,null,null,null,null,null,null,null,null,null,null,null,null,null,null,null,null,null,null,null,null,null,null,null,null,null,null,null,"Ubruklig"]
[null,null,"Vannføringsrapport NVE",null,null,null,null,null,null,null,null,null,null,null,null,null,null,null,null,null,null,null,null,null,null,null,null,null,null,null,null,null,null,null,null,null,null,null,null,null,null,null,null,null,null,null,null,null,null,null,"Norges \nvassdrags- \nog energidirektorat",null,null,null,null,null,null,null,null,"Dårlig"]
[null,null,null,null,null,null,null,null,null,null,null,null,null,null,null,null,null,null,null,null,null,null,null,null,null,null,null,null,null,null,null,null,null,null,null,null,null,null,null,null,null,null,null,null,null,null,null,null,null,null,null,null,null,null,null,null,null,null,null,"Middels"]
[null,null,"St.nr:",null,null,null,null,null,null,null,null,null,"Dato: ",null,null,null,null,null,null,null,null,null,null,null,null,null,null,null,null,null,null,null,null,null,null,null,null,null,null,null,null,null,null,null,null,null,null,null,null,null,null,null,null,null,null,null,null,null,null,"God"]
[]
[null,null,"Stasjon:"]
[]
[]
[null,null,"Vst",null,null,{"$f":"(W9+W10)/2","v":0},null,null,"m",null,null,"Målestart:",null,null,null,null,null,null,"Vst før måling:",null,null,null,null,null,null,"m",null,"Bredde:",null,null,null,null,null,null,"m",null,null,"Q, snitt",null,null,null,null,null,"m³/s",null,null,"Utført av: "]
[null,null,"Q",null,null,{"$f":"AO9+AO16","v":0},null,null,"m³/s",null,null,"Måleslutt:",null,null,null,null,null,null,"Vst etter måling:",null,null,null,null,null,null,"m",null,"Areal:",null,null,null,null,null,null,"m²",null,null,"Q, median",null,null,null,null,null,"m³/s",null,null,"Prosessert av:"]
[null,null,"Kvalitet:",null,null,null,null,null,null,null,null,"Tid (t:m:s)",null,null,null,null,null,null,"Vst-endring",null,null,null,null,null,null,"m",null,"Snittdyp:",null,null,null,null,null,null,"m",null,null,"Q, 100*std/snitt",null,null,null,null,null,"%"]
[null,null,null,null,null,null,null,null,null,null,null,null,null,null,null,null,null,null,null,null,null,null,null,null,null,null,null,"Maksdyp:",null,null,null,null,null,null,"m",null,null,"Målt Q:",null,null,null,null,null,"%"]
[null,null,"Instrument:",null,null,null,null,null,null,null,null,"Blanking:",null,null,null,null,"m",null,"Vann-temp.:",null,null,null,null,null,null,"°C",null,"Snitthastighet:",null,null,null,null,null,null,"m/s",null,null,"Målt Q:",null,null,null,null,null,"m³/s",null,null,"ADCP Test:"]
[null,null,"Serie #:",null,null,null,null,null,"(første instr)",null,null,"ADCP dyp",null,null,null,null,"m",null,"ADCP t. (første):",null,null,null,null,null,null,"°C",null,"Makshastighet:",null,null,null,null,null,null,"m/s",null,null,"Q, kurve",null,null,null,null,null,"m³/s",null,null,"Kompasskalibrering"]
[null,null,"Firmware:",null,null,null,null,null,null,null,null,"Bin size",null,null,null,null,"m",null,"ADCP t. (siste):",null,null,null,null,null,null,"°C",null,"Extrap",null,null,null,null,null,null,null,null,null,"Q % kurve",null,null,null,null,null,"%",null,null,"MB-test, loop "]
[null,null,"Software:",null,null,null,null,null,"(prosessert)",null,null,"Ref.",null,null,null,null,null,null,null,null,null,null,null,null,null,null,null,"Q u/ Extrap (m³/s)",null,null,null,null,259.36433333333332,null,null,null,null,"Skalering",null,null,null,null,null,"m³/s",null,null,"MB-test, stasjonær ",null,null,null,null,null,null,null,null,null,null,null,null,null,null,null,null,null,null,null,null,null,null,null,null,null,null,null,null,null,null,null,null,null,null,null,null,null,null,null,null,null,null,null,null,null,null,null,null,null,null,null,null,null,null,null,null,null,null,null,null,null,null,null,null,null,null,null,null,null,null,null,null,null,null,null,null,null,null,null,null,null,null,null,null,null,null,0.78149999999999997]
[]
[null,null,"Målested:"]
[null,null,"HMS:"]
[null,null,"Kommentar:"]
[]
[null,null,"Tr. #",null,"LR","Tid",null,null,null,null,null,"Vannføring",null,null,null,null,null,null,null,null,null,null,null,null,null,null,null,null,"Extrap",null,null,null,"Avstand",null,null,null,"Elv",null,"Areal",null,"#",null,"Celle",null,"Mode",null,"Forskjellige Q"]
[null,null,null,null,null,"Fra",null,"Til",null,"Sek.",null,"Total Q",null,null,"% avvik",null,"% målt",null,"% side",null,"Topp",null,"Bunn",null,"VS",null,"HS",null,"T","B","Eks",null,"VS",null,"HS",null,"m/s",null,"m²",null,"ens",null,"str.",null,"wm","bm","Q(bt)",null,"Q(mb)",null,"Q(vtg)",null,"Q(gga)"]
[]
[]
[]
[]
[]
[]
[]
[]
[]
[]
[]
[]
[]
[]
[]
[]
[]
[]
[]
[]
[]
[]
[]
[]
[]
[]
[]
[]
[]
[]
[]
[]
[null,null,"Kvalitetsskjema"]
[null,null,null,null,null,null,null,null,null,"Kriterier",null,null,null,null,null,null,null,null,null,null,null,null,null,null,null,null,null,null,"Vurdering",null,null,null,"Denne ",null,null,"Kommentar"]
[null,null,null,null,null,null,null,null,null,"God (3 )",null,null,null,null,null,"Middels (2 )",null,null,null,null,null,null,"Dårlig (1 )",null,null,null,null,null,"3=G; 2=M;  1=D",null,null,null,"målinga"]
[null,null,"Vannstand",null,null,null,null,null,null,"Se punkt 7"]
[null,null,"Skalering/Tidsforskyving",null,null,null,null,null,null,"Se punkt 8"]
[null,null,"Magefølelse",null,null,null,null,null,null,"Subjektivt. Mye basert på feltarbeidet."]
[null,null,"Directional error",null,null,null,null,null,null,"0-2%",null,null,null,null,null,"2-5%",null,null,null,null,null,null,"> 5%",null,null,null,null,null,null,null,null,null,{"$f":"Kvalitetsbeskrivelse!C61","v":{"$error":"#DIV/0!"}}]
[null,null,"Store sidetillegg",null,null,null,null,null,null,"0-2%",null,null,null,null,null,"2-5%",null,null,null,null,null,null,"> 5%",null,null,null,null,null,null,null,null,null,{"$f":"Kvalitetsbeskrivelse!C62","v":{"$error":"#DIV/0!"}}]
[null,null,"Ekstrapolering ",null,null,null,null,null,null,"0-20%",null,null,null,null,null,"20-40%",null,null,null,null,null,null,"> 40%",null,null,null,null,null,null,null,null,null,{"$f":"1-(AO12/100)","v":1}]
[null,null,"Andel dårlige ensembler",null,null,null,null,null,null,"Se punkt 3"]
[null,null,"Moving bed-test",null,null,null,null,null,null,"Nei, test utført.",null,null,null,null,null,"Ja, korrigert for/ Ikke testet",null,null,null,null,null,null,"Ja, ikke korrigert for",null,null,null,null,null,null,null,null,null,{"$f":"MmtData!D18","v":"Yes"}]
[null,null,"Rotete shiptrack",null,null,null,null,null,null,"Subjektivt, Viktigst ved mode 12"]
[null,null,"Rotete bunn",null,null,null,null,null,null,"Subjektivt, se punkt 5"]
[null,null,"Rotete hastighetsbilde",null,null,null,null,null,null,"Subjektivt, se punkt 9"]
[null,null,"CV (Std.avvik/middelQ)",null,null,null,null,null,null,"0 - 5 ",null,null,null,null,null,"5-8",null,null,null,null,null,null,"> 8",null,null,null,null,null,null,null,null,null,{"$f":"Kvalitetsbeskrivelse!C69","v":{"$error":"#DIV/0!"}}]
[null,null,"Tidsbruk",null,null,null,null,null,null,"> 12",null,null,null,null,null,"8 - 12",null,null,null,null,null,null,"< 8",null,null,null,null,null,null,null,null,null,{"$f":"Kvalitetsbeskrivelse!C70","v":0}]
[]
[null,null,"Karakter",null,null,null,null,null,null,{"$f":"Kvalitetsbeskrivelse!C76","v":"Dårlig"}]

{"sheet":"MmtData","index":1,"n_rows":33,"n_cols":46,"rows_kept":33,"cut":false,"hidden":false,"merged":[]}
["Number","019_0109"]
["Name","Rygene"]
["Measurement_Date","2015-08-28"]
["Mmt-file","019_0109_Rygene_2.mmt"]
["Outside_Gage_Height",0.28000000000000003]
["Gage_Height_Change",0]
["WR version (last processed)","2.15"]
["ADCPSerialNmb",3283]
["Party","FWE/HRY"]
["ProcessedBy","HRY"]
["Description"]
["Reference","BT"]
["Water_Temperature","N/A"]
["Remarks","Samme som i går"]
["RG-test(s)",1]
["CompCal(s)",1]
["Loop MB-test (num/checked)",9,9]
["Loop MB-test (num/checked)",3,3,"Yes"]
[]
["FileName","TransectNmb","BeginLeft","StartTime","EndTime","TotalNmbEnsembles","TotalBadEnsembles","TotalQ","MeasuredQ","TopQ","BottomQ","LeftQ","RightQ","LeftDistance","RightDistance","Width","TotalArea","QperArea","MeanRiverVel","MaxWaterDepth","MeanWaterDepth","MaxWaterSpeed","MeanBoatSpeed","FlowDirection","WTMode","BTMode","BinSize","BlankingDistance","ADCP_FW_Version","ADCP_Type","Power_Curve_Coef","Top_Discharge_Estimate","Bottom_Discharge_Estimate","ADCP_Transducer_Depth","ADCPTemperature","GGA#TotalQ","VTG#TotalQ","BottomTrackDischarge","CorrectedDischarge","dT","measQ_Percent","% edge Q","dQ_Percent","abs_dQ_Percent","Top_Discharge_Estimate_word","Bottom_Discharge_Estimate_word"]
["019_0109_Rygene002",2,"R",42244.575173611112,42244.576805555553,227,68,263.39299999999997,197.858,28.873000000000001,36.005000000000003,0,0.65800000000000003,0,5,97.995000000000005,448.29700000000003,0.58799999999999997,0.73199999999999998,5.718,2.2250000000000001,1.319,1.224,29.030999999999999,12,5,0.25,0.15,"10.17","RG-adcp",0.16669999999999999,0,0,0.08,15.86,0,0,0,0,140.99999964237213,75.118928749055598,0.24981681365867736,1.5532847615901899,1.5532847615901899,"pwr","pwr"]
["019_0109_Rygene003",3,"L",42244.580393518518,42244.582673611112,292,17,261.73399999999998,200.67699999999999,27.808,31.719000000000001,0.90400000000000003,0.627,6,5,106.282,386.02699999999999,0.67800000000000005,0.83799999999999997,5.8140000000000001,3.3370000000000002,1.5660000000000001,0.50800000000000001,22.027000000000001,12,5,0.12,0.15,"10.17","RG-adcp",0.16669999999999999,0,0,0.08,15.93,0,0,0,0,197.00000016018748,76.672117493332934,0.58494502051701358,0.91364399885360503,0.91364399885360503,"pwr","pwr"]
["019_0109_Rygene004",4,"R",42244.582858796297,42244.584988425922,273,23,254.71100000000001,198.154,26.808,29.506,0.81100000000000005,-0.56799999999999995,6,5,105.461,396.22699999999998,0.64300000000000002,0.81200000000000006,5.7190000000000003,3.5070000000000001,1.728,0.60499999999999998,23.774000000000001,12,5,0.12,0.15,"10.17","RG-adcp",0.16669999999999999,0,0,0.08,15.9,0,0,0,0,183.99999963585287,77.795619348987671,0.54139789800990146,-1.7941300075954831,1.7941300075954831,"pwr","pwr"]
["019_0109_Rygene005",5,"L",42244.585057870368,42244.587766203702,348,24,260.19299999999998,202.55500000000001,26.943000000000001,29.228000000000002,0.69799999999999995,0.76800000000000002,6,5,103.94,370.517,0.70199999999999996,0.83899999999999997,5.6020000000000003,3.363,1.7170000000000001,0.437,20.111000000000001,12,5,0.12,0.15,"10.17","RG-adcp",0.16669999999999999,0,0,0.08,15.92,0,0,0,0,234.0000000083819,77.847982074844452,0.56342791696932659,0.31949908301449698,0.31949908301449698,"pwr","pwr"]
["019_0109_Rygene006",6,"R",42244.587812500002,42244.58997685185,276,17,254.2,197.14,27.48,28.536000000000001,0.83599999999999997,0.20799999999999999,6,5,104.00700000000001,391.94499999999999,0.64900000000000002,0.80600000000000005,5.3570000000000002,3.5529999999999999,1.577,0.59,22.228999999999999,12,5,0.12,0.15,"10.17","RG-adcp",0.16669999999999999,0,0,0.08,15.88,0,0,0,0,186.99999970849603,77.553107789142416,0.41070023603461847,-1.9911501581430493,1.9911501581430493,"pwr","pwr"]
["019_0109_Rygene007",7,"L",42244.59002314815,42244.592395833337,305,22,261.95499999999998,201.33699999999999,27.672000000000001,31.361000000000001,0.91100000000000003,0.67400000000000004,6,5,102.92,358.81099999999998,0.73,0.83499999999999996,5.36,3.3,1.76,0.47899999999999998,19.619,12,5,0.12,0.15,"10.17","RG-adcp",0.16669999999999999,0,0,0.08,15.93,0,0,0,0,205.000000144355,76.859384245385655,0.60506575556870457,0.99885232228024046,0.99885232228024046,"pwr","pwr"]
["Mean",null,null,42244.583553240744,42244.585767746918,"Mean",null,259.36433333333332,199.62016666666668,27.597333333333335,31.059166666666666,0.69333333333333336,0.39450000000000007,"Mean",null,103.43416666666666,391.97066666666666,0.66499999999999992,0.81033333333333324,5.5949999999999998,3.2141666666666668,1.6111666666666666,0.64049999999999996,"Mean",null,null,null,null,null,null,null,null,null,null,15.903333333333331,0,0,0,0,191.33333321660757,76.974523283458112,0.49255894012637369,-1.8503717077085941E-17,1.2617600552461774,"Mean"]
["Median",null,null,42244.583958333329,42244.586377314816,"Median",null,260.96349999999995,199.41550000000001,27.576000000000001,30.433500000000002,0.82350000000000001,0.64250000000000007,"Median",null,103.9735,388.98599999999999,0.66349999999999998,0.82350000000000001,5.66,3.35,1.647,0.54899999999999993,"Median",null,null,null,null,null,null,null,null,null,null,15.91,0,0,0,0,191.99999993434176,77.206246017264036,0.55241290748961402,0.61657154093405109,1.2760685419352151,"Median"]
["StDev",null,null,"00:07:41.976","00:08:02.827","StDev",null,3.9387197750879976,2.1947101327202518,0.74057374154551014,2.7246878292139907,0.34833642741847526,0.51035272116449026,"StDev",null,2.9206545442195671,30.938401184719513,4.986381453519264E-2,4.0873789482588394E-2,0.19513277530954301,0.4946952260398999,0.16466379889540753,0.29303020322144291,"StDev",null,null,null,null,null,null,null,null,null,null,2.8751811537130356E-2,0,0,0,0,30.480595084998384,1.0314869243380689,0.1372772482638524,1.5186050157581392,0.62905887599490617,"StDev"]
["100*StDev/Mean",null,null,"00:00:01.094","00:00:01.143","100*StDev/Mean",null,1.5186050157582698,1.0994430920324108,2.6834974691232611,8.77257222788975,50.240830877664699,129.36697621406594,"100*StDev/Mean",null,2.8236845119387377,7.8930399174562842,7.4983179752169384,5.0440711002782885,3.4876277982045223,15.391088183766655,10.220159236293009,45.750226888593744,"100*StDev/Mean",null,null,null,null,null,null,null,null,null,null,0.18079110167971302,-9999,-9999,-9999,-9999,15.93062461860289,1.3400367814421219,27.870217567999429,-8.2070267797095864E+18,49.855665772536504,"100*StDev/Mean"]
["Sum",null,null,253467.50131944445,253467.51460648151,"Sum",null,1556.1859999999999,1197.721,165.584,186.35499999999999,4.16,2.3670000000000004,"Sum",null,620.6049999999999,2351.8240000000001,3.9899999999999998,4.8619999999999992,33.57,19.285,9.6669999999999998,3.8429999999999995,"Sum",null,null,null,null,null,null,null,null,null,null,95.419999999999987,0,0,0,0,1147.9999992996454,461.8471397007487,2.9553536407582421,0,7.570560331477064,"Sum"]
["Min",null,null,42244.575173611112,42244.576805555553,"Min",null,254.2,197.14,26.808,28.536000000000001,0,-0.56799999999999995,"Min",null,97.995000000000005,358.81099999999998,0.58799999999999997,0.73199999999999998,5.3570000000000002,2.2250000000000001,1.319,0.437,"Min",null,null,null,null,null,null,null,null,null,null,15.86,0,0,0,0,140.99999964237213,75.118928749055598,0.24981681365867736,-1.9911501581430493,0.31949908301449698,"Min"]
["Max",null,null,42244.59002314815,42244.592395833337,"Max",null,263.39299999999997,202.55500000000001,28.873000000000001,36.005000000000003,0.91100000000000003,0.76800000000000002,"Max",null,106.282,448.29700000000003,0.73,0.83899999999999997,5.8140000000000001,3.5529999999999999,1.76,1.224,"Max",null,null,null,null,null,null,null,null,null,null,15.93,0,0,0,0,234.0000000083819,77.847982074844452,0.60506575556870457,1.5532847615901899,1.9911501581430493,"Max"]

{"sheet":"Kvalitetsbeskrivelse","index":2,"n_rows":93,"n_cols":21,"rows_kept":93,"cut":false,"hidden":false,"merged":[[66,13,66,14],[55,10,55,12],[71,0,71,1],[55,0,56,1],[57,0,57,1],[57,13,57,14],[61,13,61,14],[62,13,62,14],[63,13,63,14],[64,13,64,14],[65,13,65,14],[58,13,58,14],[59,13,59,14],[60,13,60,14],[58,0,58,1],[59,0,59,1],[2,14,2,16],[75,0,75,1],[74,0,74,1],[67,0,67,1],[60,0,60,1],[61,0,61,1],[62,0,62,1],[63,0,63,1],[64,0,64,1],[65,0,65,1],[66,0,66,1],[68,0,68,1],[69,0,69,1],[70,0,70,1],[72,0,72,1],[73,0,73,1]]}
["Passord: HH"]
[]
[null,null,null,null,null,null,null,null,null,null,null,null,null,null,"PASSORD ARKBESKYTTELSE: HH"]
[]
[]
[]
[]
[]
[]
[]
[]
[]
[]
[]
[]
[]
[]
[]
[]
[]
[]
[]
[]
[]
[]
[]
[]
[]
[]
[]
[]
[]
[]
[]
[]
[]
[]
[]
[]
[]
[]
[]
[]
[]
[]
[]
[]
[]
[]
[]
[]
[]
[]
["Utregning ift kvalitetsskjema (ikke rør):"]
[]
[null,null,"Denne","Vekt","Poeng","Kopi av karakter","Kritsik?","Min av disse","Snitt av disse",null,"Abs.verdier fra rapport"]
[null,null,"målinga","Poeng","(V*V)","fra Sluttrapport",null,null,null,null,"Left Q","Right Q","Total Q",null,null,"Start L","Start R","Alle",0.02,0.05,0.1]
["Vannstand",null,null,null,null,{"$f":"Sluttrapport!AC59","v":0},1,{"$f":"IF(G58,F58,\"\")","v":0},{"$f":"IF(NOT(G58),F58,\"\")","v":""},null,{"$f":"IF(ISNUMBER(Sluttrapport!Y24),ABS(Sluttrapport!Y24),\"\")","v":""},{"$f":"IF(ISNUMBER(Sluttrapport!AA24),ABS(Sluttrapport!AA24),\"\")","v":""},{"$f":"IF(ISNUMBER(Sluttrapport!L24),ABS(Sluttrapport!L24),\"\")","v":""},"Transect",null,{"$f":"COUNTIF(Sluttrapport!$E$24:$E$50,\"L\")","v":0},{"$f":"COUNTIF(Sluttrapport!$E$24:$E$50,\"R\")","v":0},{"$f":"COUNTIF(Sluttrapport!$E$24:$E$50,\"*\")","v":0}]
["Skalering/Tidsforskyving",null,null,null,null,{"$f":"Sluttrapport!AC60","v":0},1,{"$f":"IF(G59,F59,\"\")","v":0},{"$f":"IF(NOT(G59),F59,\"\")","v":""},null,{"$f":"IF(ISNUMBER(Sluttrapport!Y25),ABS(Sluttrapport!Y25),\"\")","v":""},{"$f":"IF(ISNUMBER(Sluttrapport!AA25),ABS(Sluttrapport!AA25),\"\")","v":""},{"$f":"IF(ISNUMBER(Sluttrapport!L25),ABS(Sluttrapport!L25),\"\")","v":""},"Vannføring (m3/s)",null,{"$f":"SUMIF(Sluttrapport!$E$24:$E$50,\"L\",Sluttrapport!$L$24:$L$50)/$P$58","v":{"$error":"#DIV/0!"}},{"$f":"SUMIF(Sluttrapport!$E$24:$E$50,\"R\",Sluttrapport!$L$24:$L$50)/$Q$58","v":{"$error":"#DIV/0!"}},{"$f":"SUMIF(Sluttrapport!$E$24:$E$50,\"*\",Sluttrapport!$L$24:$L$50)/$R$58","v":{"$error":"#DIV/0!"}},{"$f":"$R$59*S57","v":{"$error":"#DIV/0!"}},{"$f":"$R$59*T57","v":{"$error":"#DIV/0!"}},{"$f":"$R$59*U57","v":{"$error":"#DIV/0!"}}]
["Magefølelse",null,null,50,0,{"$f":"Sluttrapport!AC61","v":0},1,0,"",null,{"$f":"IF(ISNUMBER(Sluttrapport!Y26),ABS(Sluttrapport!Y26),\"\")","v":""},{"$f":"IF(ISNUMBER(Sluttrapport!AA26),ABS(Sluttrapport!AA26),\"\")","v":""},{"$f":"IF(ISNUMBER(Sluttrapport!L26),ABS(Sluttrapport!L26),\"\")","v":""},"Varighet (snitt, sek)",null,{"$f":"SUMIF(Sluttrapport!$E$24:$E$50,\"L\",Sluttrapport!$J$24:$J$50)/P$58","v":{"$error":"#DIV/0!"}},{"$f":"SUMIF(Sluttrapport!$E$24:$E$50,\"R\",Sluttrapport!$J$24:$J$50)/Q$58","v":{"$error":"#DIV/0!"}},{"$f":"SUMIF(Sluttrapport!$E$24:$E$50,\"*\",Sluttrapport!$J$24:$J$50)/R$58","v":{"$error":"#DIV/0!"}}]
["Directional error",null,{"$f":"ABS(P65)/R59","v":{"$error":"#DIV/0!"}},10,0,{"$f":"Sluttrapport!AC62","v":0},0,"",0,null,{"$f":"IF(ISNUMBER(Sluttrapport!Y27),ABS(Sluttrapport!Y27),\"\")","v":""},{"$f":"IF(ISNUMBER(Sluttrapport!AA27),ABS(Sluttrapport!AA27),\"\")","v":""},{"$f":"IF(ISNUMBER(Sluttrapport!L27),ABS(Sluttrapport!L27),\"\")","v":""},"Varighet (snitt, min:sek)",null,{"$f":"P60/60/24","v":{"$error":"#DIV/0!"}},{"$f":"Q60/60/24","v":{"$error":"#DIV/0!"}},{"$f":"R60/60/24","v":{"$error":"#DIV/0!"}}]
["Store sidetillegg",null,{"$f":"(P63+P64)/R59","v":{"$error":"#DIV/0!"}},15,0,{"$f":"Sluttrapport!AC63","v":0},0,"",0,null,{"$f":"IF(ISNUMBER(Sluttrapport!Y28),ABS(Sluttrapport!Y28),\"\")","v":""},{"$f":"IF(ISNUMBER(Sluttrapport!AA28),ABS(Sluttrapport!AA28),\"\")","v":""},{"$f":"IF(ISNUMBER(Sluttrapport!L28),ABS(Sluttrapport!L28),\"\")","v":""},"Q målt (%)",null,null,null,{"$f":"Sluttrapport!AO12","v":0}]
["Ekstrapolering",null,{"$f":"(100-R62)/100","v":1},20,0,{"$f":"Sluttrapport!AC64","v":0},0,"",0,null,{"$f":"IF(ISNUMBER(Sluttrapport!Y29),ABS(Sluttrapport!Y29),\"\")","v":""},{"$f":"IF(ISNUMBER(Sluttrapport!AA29),ABS(Sluttrapport!AA29),\"\")","v":""},{"$f":"IF(ISNUMBER(Sluttrapport!L29),ABS(Sluttrapport!L29),\"\")","v":""},"Sidetillegg Left (abs, m3/s)",null,{"$f":"AVERAGE(K58:K80)","v":{"$error":"#DIV/0!"}}]
["Andel dårlige ensembler",null,null,5,0,{"$f":"Sluttrapport!AC65","v":0},0,"",0,null,{"$f":"IF(ISNUMBER(Sluttrapport!Y30),ABS(Sluttrapport!Y30),\"\")","v":""},{"$f":"IF(ISNUMBER(Sluttrapport!AA30),ABS(Sluttrapport!AA30),\"\")","v":""},{"$f":"IF(ISNUMBER(Sluttrapport!L30),ABS(Sluttrapport!L30),\"\")","v":""},"Sidetillegge Right (abs, m3/s)",null,{"$f":"AVERAGE(L58:L80)","v":{"$error":"#DIV/0!"}}]
["Moving bed",null,null,25,0,{"$f":"Sluttrapport!AC66","v":0},1,0,"",null,{"$f":"IF(ISNUMBER(Sluttrapport!Y31),ABS(Sluttrapport!Y31),\"\")","v":""},{"$f":"IF(ISNUMBER(Sluttrapport!AA31),ABS(Sluttrapport!AA31),\"\")","v":""},{"$f":"IF(ISNUMBER(Sluttrapport!L31),ABS(Sluttrapport!L31),\"\")","v":""},"Directional error (m3/s)",null,{"$f":"P59-Q59","v":{"$error":"#DIV/0!"}}]
["Rotete shiptrack",null,null,10,0,{"$f":"Sluttrapport!AC67","v":0},0,"",0,null,{"$f":"IF(ISNUMBER(Sluttrapport!Y32),ABS(Sluttrapport!Y32),\"\")","v":""},{"$f":"IF(ISNUMBER(Sluttrapport!AA32),ABS(Sluttrapport!AA32),\"\")","v":""},{"$f":"IF(ISNUMBER(Sluttrapport!L32),ABS(Sluttrapport!L32),\"\")","v":""},"St. avvik",null,{"$f":"STDEV(M58:M80)","v":{"$error":"#DIV/0!"}}]
["Rotete bunn",null,null,10,0,{"$f":"Sluttrapport!AC68","v":0},0,"",0,null,{"$f":"IF(ISNUMBER(Sluttrapport!Y33),ABS(Sluttrapport!Y33),\"\")","v":""},{"$f":"IF(ISNUMBER(Sluttrapport!AA33),ABS(Sluttrapport!AA33),\"\")","v":""},{"$f":"IF(ISNUMBER(Sluttrapport!L33),ABS(Sluttrapport!L33),\"\")","v":""}]
["Rotete hastightetsbilde",null,null,10,0,{"$f":"Sluttrapport!AC69","v":0},0,"",0,null,{"$f":"IF(ISNUMBER(Sluttrapport!Y34),ABS(Sluttrapport!Y34),\"\")","v":""},{"$f":"IF(ISNUMBER(Sluttrapport!AA34),ABS(Sluttrapport!AA34),\"\")","v":""},{"$f":"IF(ISNUMBER(Sluttrapport!L34),ABS(Sluttrapport!L34),\"\")","v":""}]
["CV (Std.avvik/middelQ)",null,{"$f":"P66/R59","v":{"$error":"#DIV/0!"}},10,0,{"$f":"Sluttrapport!AC70","v":0},0,"",0,null,{"$f":"IF(ISNUMBER(Sluttrapport!Y35),ABS(Sluttrapport!Y35),\"\")","v":""},{"$f":"IF(ISNUMBER(Sluttrapport!AA35),ABS(Sluttrapport!AA35),\"\")","v":""},{"$f":"IF(ISNUMBER(Sluttrapport!L35),ABS(Sluttrapport!L35),\"\")","v":""}]
["Tidsbruk",null,{"$f":"Sluttrapport!O11","v":0},15,0,{"$f":"Sluttrapport!AC71","v":0},1,0,"",null,{"$f":"IF(ISNUMBER(Sluttrapport!Y36),ABS(Sluttrapport!Y36),\"\")","v":""},{"$f":"IF(ISNUMBER(Sluttrapport!AA36),ABS(Sluttrapport!AA36),\"\")","v":""},{"$f":"IF(ISNUMBER(Sluttrapport!L36),ABS(Sluttrapport!L36),\"\")","v":""}]
[null,null,null,null,null,null,null,{"$f":"MIN(H58:H70)","v":0},{"$f":"AVERAGE(I58:I70)","v":0},null,{"$f":"IF(ISNUMBER(Sluttrapport!Y37),ABS(Sluttrapport!Y37),\"\")","v":""},{"$f":"IF(ISNUMBER(Sluttrapport!AA37),ABS(Sluttrapport!AA37),\"\")","v":""},{"$f":"IF(ISNUMBER(Sluttrapport!L37),ABS(Sluttrapport!L37),\"\")","v":""}]
[null,null,null,null,null,null,null,null,null,null,{"$f":"IF(ISNUMBER(Sluttrapport!Y38),ABS(Sluttrapport!Y38),\"\")","v":""},{"$f":"IF(ISNUMBER(Sluttrapport!AA38),ABS(Sluttrapport!AA38),\"\")","v":""},{"$f":"IF(ISNUMBER(Sluttrapport!L38),ABS(Sluttrapport!L38),\"\")","v":""}]
[null,null,null,null,null,null,null,null,null,null,{"$f":"IF(ISNUMBER(Sluttrapport!Y39),ABS(Sluttrapport!Y39),\"\")","v":""},{"$f":"IF(ISNUMBER(Sluttrapport!AA39),ABS(Sluttrapport!AA39),\"\")","v":""},{"$f":"IF(ISNUMBER(Sluttrapport!L39),ABS(Sluttrapport!L39),\"\")","v":""},null,"God"]
[null,null,null,null,null,null,null,null,null,null,{"$f":"IF(ISNUMBER(Sluttrapport!Y40),ABS(Sluttrapport!Y40),\"\")","v":""},{"$f":"IF(ISNUMBER(Sluttrapport!AA40),ABS(Sluttrapport!AA40),\"\")","v":""},{"$f":"IF(ISNUMBER(Sluttrapport!L40),ABS(Sluttrapport!L40),\"\")","v":""},null,"Middels"]
["Karakter",null,{"$f":"MIN(H71:I71)","v":0},null,null,null,null,null,null,null,{"$f":"IF(ISNUMBER(Sluttrapport!Y41),ABS(Sluttrapport!Y41),\"\")","v":""},{"$f":"IF(ISNUMBER(Sluttrapport!AA41),ABS(Sluttrapport!AA41),\"\")","v":""},{"$f":"IF(ISNUMBER(Sluttrapport!L41),ABS(Sluttrapport!L41),\"\")","v":""},null,"Dårlig"]
["Karakter",null,{"$f":"IF(C75<1.5,\"Dårlig\",IF(AND(C75>=1.5,C75<2.5),\"Middels\",\"God\"))","v":"Dårlig"},null,null,null,null,null,null,null,{"$f":"IF(ISNUMBER(Sluttrapport!Y42),ABS(Sluttrapport!Y42),\"\")","v":""},{"$f":"IF(ISNUMBER(Sluttrapport!AA42),ABS(Sluttrapport!AA42),\"\")","v":""},{"$f":"IF(ISNUMBER(Sluttrapport!L42),ABS(Sluttrapport!L42),\"\")","v":""},null,"Ubrukelig"]
[null,null,null,null,null,null,null,null,null,null,{"$f":"IF(ISNUMBER(Sluttrapport!Y43),ABS(Sluttrapport!Y43),\"\")","v":""},{"$f":"IF(ISNUMBER(Sluttrapport!AA43),ABS(Sluttrapport!AA43),\"\")","v":""},{"$f":"IF(ISNUMBER(Sluttrapport!L43),ABS(Sluttrapport!L43),\"\")","v":""}]
[null,null,null,null,null,null,null,null,null,null,{"$f":"IF(ISNUMBER(Sluttrapport!Y44),ABS(Sluttrapport!Y44),\"\")","v":""},{"$f":"IF(ISNUMBER(Sluttrapport!AA44),ABS(Sluttrapport!AA44),\"\")","v":""},{"$f":"IF(ISNUMBER(Sluttrapport!L44),ABS(Sluttrapport!L44),\"\")","v":""}]
[null,null,null,null,null,null,null,null,null,null,{"$f":"IF(ISNUMBER(Sluttrapport!Y45),ABS(Sluttrapport!Y45),\"\")","v":""},{"$f":"IF(ISNUMBER(Sluttrapport!AA45),ABS(Sluttrapport!AA45),\"\")","v":""},{"$f":"IF(ISNUMBER(Sluttrapport!L45),ABS(Sluttrapport!L45),\"\")","v":""}]
[null,null,null,null,null,null,null,null,null,null,{"$f":"IF(ISNUMBER(Sluttrapport!Y46),ABS(Sluttrapport!Y46),\"\")","v":""},{"$f":"IF(ISNUMBER(Sluttrapport!AA46),ABS(Sluttrapport!AA46),\"\")","v":""},{"$f":"IF(ISNUMBER(Sluttrapport!L46),ABS(Sluttrapport!L46),\"\")","v":""}]
[]
[]
[]
[]
[]
[]
[]
[]
[]
["Ubrukelig"]
["Dårlig"]
["Middels"]
["God"]

{"sheet":"Hysopp kommentar","index":3,"n_rows":16,"n_cols":5,"rows_kept":16,"cut":false,"hidden":false,"merged":[[1,4,1,6]]}
["Til innliming i relevante felter i Hysopp: (start-tid # slutt-tid # vst før # vst etter # serienr # Q u/extrap #  Q m/extrap # Bredde # Areal"]
[{"$f":"\" #T1: \"& TEXT(Sluttrapport!P4,\"dd.mm.åååå \")&TEXT(Sluttrapport!O9,\"tt:mm\")&\" #T2: \"& TEXT(Sluttrapport!P4,\"dd.mm.åååå \")&TEXT(Sluttrapport!O10,\"tt:mm\") &\" #H1: \" & Sluttrapport!W9 &\" #H2: \" & Sluttrapport!W10 & \" #SerNr: \" & Sluttrapport!F14 &\" #QuExt \" & TEXT(Sluttrapport!AG16,\"0,000\")  &\" #QmExt \"& TEXT(Sluttrapport!AO9,\"0,000\")  &\" #Br: \"& TEXT(Sluttrapport!AF9,\"0,000\")  &\" #A: \"& TEXT(Sluttrapport!AF10,\"0,000\")","v":" #T1: 00.01.1900 00:00 #T2: 00.01.1900 00:00 #H1:  #H2:  #SerNr:  #QuExt 259,364 #QmExt 0,000 #Br: 0,000 #A: 0,000"},null,null,null,"PASSORD ARKBESKYTTELSE: HH"]
[{"$f":"\"Kommentar: \" & Sluttrapport!F20","v":"Kommentar: "}]
[{"$f":"\"HMS: \" & Sluttrapport!F19","v":"HMS: "}]
[{"$f":"\"Målested:   \"&Sluttrapport!F18","v":"Målested:   "}]
[{"$f":"\"Målemetode:   \"&Sluttrapport!F13","v":"Målemetode:   "}]
[{"$f":"\"Vst:   \"&ROUND(Sluttrapport!F9,3) &\" m\"","v":"Vst:   0 m"}]
[{"$f":"\"Gj.snitt hastighet:   \" &ROUND(Sluttrapport!AF13,3)&\"   m/s\"&\"  \\    Maxhastighet:   \"&ROUND(Sluttrapport!AF14,3)& \"  m/s\"","v":"Gj.snitt hastighet:   0   m/s  \\    Maxhastighet:   0  m/s"}]
[{"$f":"\"Gj.snitt dybde:   \" &ROUND(Sluttrapport!AF11,2)&\"  m\" &  \" \\ Max dyp:   \"&ROUND(Sluttrapport!AF12,2)& \"   m\"","v":"Gj.snitt dybde:   0  m \\ Max dyp:   0   m"}]
[{"$f":"\"MB Test:   Loop: \"&Sluttrapport!AZ15 & \" Stasj: \" & Sluttrapport!AZ16","v":"MB Test:   Loop:  Stasj: "}]
[{"$f":"\"Extrap:   \"& Sluttrapport!AD15","v":"Extrap:   "}]
[{"$f":"\"Kvalitet:   \"&Sluttrapport!$J$73","v":"Kvalitet:   Dårlig"}]
[{"$f":"\"Kurve pr d.d:  \"& ROUND(Sluttrapport!$AO$15,2) & \" %\"","v":"Kurve pr d.d:  0 %"}]
[{"$f":"\"Ekstrapolering:  \" &ROUND(100-Sluttrapport!AO12,2)& \" %\"","v":"Ekstrapolering:  100 %"}]
[{"$f":"\"St.avvik:  \" &ROUND(Kvalitetsbeskrivelse!P66,3)& \"  \\ CV:  \" &ROUND(Kvalitetsbeskrivelse!C69,2)","v":{"$error":"#DIV/0!"}}]
[{"$f":"\"Sn:\" &Sluttrapport!F14&\" \\ Fw: \"&Sluttrapport!F15&\" \\ Sw:\"&Sluttrapport!F16","v":"Sn: \\ Fw:  \\ Sw:"}]

{"sheet":"HJELP","index":4,"n_rows":55,"n_cols":1,"rows_kept":55,"cut":false,"hidden":false,"merged":[]}
["Hyd-wiki:"]
["http://hyd-wiki/index.php/Excel_med_makro#ADCP-rapport.xlsm"]
[]
["Bane til Extrap-fil (Extrapskjema.xlsx)"]
["H:\\Faggrupper\\Måleteknologi\\Akustisk\\ADCP\\ComparisonMeasurements\\Extrap"]
["...det holder å bla seg frem til denne fila en gang. Makroen husker det (vanligvis) til neste gang, så du trykker bare åpne uten å trenge å bla. \nEDIT juni 2015: Dette er ikke et valg lenger. Katalog og navn er hard-kodet inn i makroen."]
[]
["Resten av denne siden er kopi av teksten i HydWiki:"]
["ADCP-rapport.xlsm"]
[]
["ADCP-rapport (ADCP_sluttrapport_versjon2.xlsm) finner dere her:"]
["\\\\nve\\fil\\h\\HH\\Vannføringsmålinger\\Akustisk"]
[]
["Denne makroen henter data fra WinRiver-fil (*.mmt) og lager en rapport. Dessuten kan man"]
["* Denne makroen henter data fra WinRiver-fil (*.mmt) og lager en rapport. Dessuten kan man"]
["* Lime inn skjermskudd fra WinWriver som plasserer seg pent av seg selv"]
["* Lagre som Excel og pdf med default-filnavn med ca to tastetrykk"]
["* Starte en veileder (zizzard) som sier trinn for trinn hva man skal gjøre for å få inn alle data til Extrap-skjemaet. Dette er anbefalt fremgansgsmåte"]
[]
["Kun lage rapport"]
[]
["Trykk på knappen \"Åpne ADCP-fil (mmt)\". "]
["Bla gjennom og velg mmt-fil. "]
["Data leses nå inn i Excel-skjemaet."]
["Velg et pent transect i WinRiver, trykk på konturplottet, og trykk Configure->Screen capture ... etc i WinRiver"]
["Trykk deretter på knappen \"Lim inn skjermskudd fra utklippstavlen\" i Excel-rapporten, og plottet man kopierte i WinRiver limes inn i rapporten."]
["Sjekk at alt ser bra og riktig ut, og trykk deretter på knappen \"Lagre (Excel og pdf)\" i Excel-rapporten, og det kommer opp et forslag til katalog og filnavn. (Ofte synes ikke hele filnavnet. Klikk i så fall på det og trykk på venstre piltast). Når katalog og fil er som du vil ha det, trykk lagre og det lagres en Excel-fil og en pdf med samme navn."]
[]
["Lage rapport og lagre til Extrap-skjemaet"]
[]
["Fremgangsmåte som \"Kun lage rapport\", men et par ting i tillegg."]
[]
["Dersom det ligger inne en måling med samme regine-main-dato får man spørsmål om hva man skal gjøre"]
["* Slett og skriv (Slette alle datafelter og skriv inn på nytt)"]
["* Skriv over (Skriv over gamle felter med nye verdier, men ikke slett felter der det ikke er informasjon i den nye fila)"]
["* Fyll ut tomme (Skriv inn ny informasjon bare der det ikke står noe fra før)"]
["* Reprosesserte (Dette er en re-prosessering av en tidligere måling. Skriv nye data til ny linje og merk data som reprosessert)"]
["* Avbryt (...avbryt!)"]
[]
["Man får spørsmål om hva slags vannføring man legger inn"]
["(1) Original Q. Q fra den fila man brukte til å samle data. Hvis filen har vært åpnet og lagret igjen med en annen versjon av WinRiver, så ikke velg dette. Den eneste måten vi kan få ut informasjon om innsamlings-software, er dersom den originale fila får være ubesudlet! Ikke velg dette dersom det er åpenbare feil i originalfila heller (f.eks. avbrutte transect som ikke ble valgt vekk i felt)"]
["(2) Ubearbeidet Q. Samme som (1), men åpnet, prosessert (uten å endre noe som helst) og lagret igjen med nyeste versjon av WinRiver"]
["(3) Bearbeidet Q. Eltet og knadd måling der man ikke har tatt med moving bed eller gjort noe med ekstrapoleringen"]
["(4) Bearbeidet Q med moving bed. Fremdeles uten Extrap."]
["(5) Bearbeidet Q med moving bed OG Extrap"]
[]
["Veiviser (wizzard)"]
[]
["Denne er forhåpentligvis ganske selvforklarende. Det kommer en forklaring i hvert trinn som sier hva man skal gjøre før man trykker \"Neste\"."]
["Etter trinn 4 (siste trinn) limer man inn skjermskudd og lagrer (Excel & pdf), som beskrevet i kapittelet Kun lage rapport ovenfor."]
[]
["Dersom måling ligger inne fra før, får du spørsmål om hva du vil gjøre. Velg \"Slett og skriv\" eller \"Reprosessert\""]
[]
["Serienummer…"]
["Serienummer lagres kun i site information i mmt-fila, og ikke for hvert transect. Dvs at om man bytter instrument under måling, vil kun serienummeret til det første synes i rapporten"]